BEGIN:VCALENDAR
VERSION:2.0
PRODID:-//Microsoft Corporation//Outlook 11.0 MIMEDIR//EN
METHOD:PUBLISH
BEGIN:VEVENT
CLASS:PUBLIC
DTSTAMP:20260419T123437Z
UID:TCTF-1776602078@towncommon.org
DTSTART:20250506T230000Z
DTEND:20250507T010000Z
SUMMARY:The Sandwich Generation: Finding Balance While Raising Children &
  Supporting Aging Parents
DESCRIPTION:Millions of parents and caregivers are raising families while meeting
  the increasing care needs of their aging parents.Please join us for a
  dynamic conversation with Liz O'Donnell\, Caregiver\, Local Expert and
  Author of the Nationally Recognized Wellness Book\, \"Working
  Daughter: A Guide to Caring for Your Aging Parents While Making a
  Living.”During this in-person program\, Liz will address the unique
  and sometimes competing challenges of caring for your children and
  aging parents.You will learn how to balance responsibilities and
  commitments while maintaining your well-being\; start crucial
  conversations with aging parents around issues of independence and
  safety\, such as downsizing and driving\; build a network of support
  with family members\, siblings and friends for the care of your
  parents\; and navigate the challenges with humor\, resilience and
  self-compassion.A Parent to Parent\, Winchester Council on Aging\, and
  Jenks Partner Presentation. 
LOCATION:Griffin Museum of Photography\, 67 Shore Road\, Winchester\, MA 01890
URL:http://www.parenttoparentwinchester.org/
IMAGE:https://findit.towncommon.org/sites/default/files/2025-03/Liz_ODonnell
 _2022.jpeg
CATEGORIES:Community\,Family
END:VEVENT
END:VCALENDAR
