BEGIN:VCALENDAR
VERSION:2.0
PRODID:-//Microsoft Corporation//Outlook 11.0 MIMEDIR//EN
METHOD:PUBLISH
BEGIN:VEVENT
CLASS:PUBLIC
DTSTAMP:20260419T121718Z
UID:TCTF-1776601038@towncommon.org
DTSTART:20250408T223000Z
DTEND:20250409T000000Z
SUMMARY:Transition to Kindergarten Panel and Resource Fair
DESCRIPTION:Join us for this interactive panel for parents and guardians to learn
  about the non-academic aspects of transitioning to kindergarten. Prior
  to the panel\, visit the Community Resource Fair to learn about
  after-school opportunities for your school age child.Panelists include
  Superintendent of Schools Dr. Frank Hackett\, School Nurse\,
  Kindergarten Teacher\, School Psychologist and Elementary School
  Principals.The Community Resource Fair includes parent representatives
  from all five elementary schools\, enrichment opportunities and
  after-school care.6:30-7:00 PM: Resource Fair\, Dining
  Commons7:00-8:00 PM: Panel with Q&A\, Auditorium
LOCATION:Winchester High School\, 80 Skillings Road\, Winchester\, MA 01890
URL:http://www.parenttoparentwinchester.org/
IMAGE:https://findit.towncommon.org/sites/default/files/2025-03/21a8ad7e01f2
 a0bc1f6c82d675d4d51e.jpeg
CATEGORIES:Family
END:VEVENT
END:VCALENDAR
