BEGIN:VCALENDAR
VERSION:2.0
PRODID:-//Microsoft Corporation//Outlook 11.0 MIMEDIR//EN
METHOD:PUBLISH
BEGIN:VEVENT
CLASS:PUBLIC
DTSTAMP:20260425T120653Z
UID:10001003-1742931000-1742934600@www.winchestermusic.org-1777@towncommon.org
DTSTART:20250325T233000Z
DTEND:20250326T003000Z
SUMMARY:Cunningham Flute Studio Recital
DESCRIPTION:Flute Students of Mary Cunningham perform for family and friends.
  Nichols Hall.
LOCATION:Winchester Community Music School\, 407 Highland Avenue\, Winchester\,
  MA 01890
URL:https://www.winchestermusic.org/event/cunningham-flute-studio-recital/
CATEGORIES:Cultural\,Education
END:VEVENT
END:VCALENDAR
