BEGIN:VCALENDAR
VERSION:2.0
PRODID:-//Microsoft Corporation//Outlook 11.0 MIMEDIR//EN
METHOD:PUBLISH
BEGIN:VEVENT
CLASS:PUBLIC
DTSTAMP:20260425T105026Z
UID:10000931-1741980600-1741984200@www.winchestermusic.org-1777@towncommon.org
DTSTART:20250314T233000Z
DTEND:20250315T003000Z
SUMMARY:Suzuki Parent Education Session
DESCRIPTION:For currently enrolled Suzuki Piano and Violin families! 
 
 Join WCMS Suzuki faculty members for a 1-hour session to review\,
  refresh\, and reinforce some of the main concepts we learned during
  your orientation about the Suzuki method. This session will also be a
  great opportunity to share and discuss tips\, tools\, and helpful
  techniques to support your child's at-home practice and learning. Our
  newest Suzuki families can learn from the experiences of our more
  seasoned families\, as they share what they've learned throughout the
  Suzuki program. 
 
 For currently enrolled Suzuki families\, both beginning and
  continuing. 
 
 To sign up\, use the link sent via email to all current Suzuki
  families\, or contact your teacher. 
 
 Choose from two sessions:
 
 Friday\, November 1\, 2024\, 7:30 - 8:30 PM
 
 Friday\, March 14\, 2025\, 7:30 - 8:30 PM postponed--new date TBD
LOCATION:Winchester Community Music School\, 407 Highland Avenue\, Winchester\,
  MA 01890
URL:https://www.winchestermusic.org/event/suzuki-parent-education-session-
 3-2/
CATEGORIES:Cultural\,Education
END:VEVENT
END:VCALENDAR
