BEGIN:VCALENDAR
VERSION:2.0
PRODID:-//Microsoft Corporation//Outlook 11.0 MIMEDIR//EN
METHOD:PUBLISH
BEGIN:VEVENT
CLASS:PUBLIC
DTSTAMP:20260425T105040Z
UID:10000740-1741374000-1741377600@www.winchestermusic.org-1777@towncommon.org
DTSTART:20250308T000000Z
DTEND:20250308T010000Z
SUMMARY:Beat of Life: A Percussion Concert
DESCRIPTION:Please join us for an exciting evening of music performed by the
  members of the WCMS Percussion Ensemble. This lively concert will
  feature works by Mozart\, Strauss\, Albeniz\, Grimo\, and Tillapaugh.
  The eclectic program brings you favorite works from the Classical
  period\, transcribed for the sound of a modern percussion ensemble. 
 
 The concert will be presented live in Nichols Performance Hall. 
 
 Hosted by Sylvie Zakarian\, chair of the Woodwinds\, Brass &
  Percussion department.
LOCATION:Winchester Community Music School\, 407 Highland Avenue\, Winchester\,
  MA 01890
URL:https://www.winchestermusic.org/event/beat-of-life-concert/
CATEGORIES:Cultural\,Education
END:VEVENT
END:VCALENDAR
