BEGIN:VCALENDAR
VERSION:2.0
PRODID:-//Microsoft Corporation//Outlook 11.0 MIMEDIR//EN
METHOD:PUBLISH
BEGIN:VEVENT
CLASS:PUBLIC
DTSTAMP:20260425T122345Z
UID:10001000-1740843000-1740846600@www.winchestermusic.org-1777@towncommon.org
DTSTART:20250301T203000Z
DTEND:20250301T213000Z
SUMMARY:Voice Department Honors Concert
DESCRIPTION:Join us for a special concert of students from the voice department at
  WCMS. This select group of students has been chosen by their teachers
  to perform in a celebratory recital to recognize their dedication to
  musical study and accomplishments throughout the year. It's an
  inspirational concert for family\, friends\, & community members to
  attend and cheer on these talented students! 
 
 Norina Rowen\, Voice Department chair\, will host.
LOCATION:Winchester Community Music School\, 407 Highland Avenue\, Winchester\,
  MA 01890
URL:https://www.winchestermusic.org/event/voice-department-honors-concert-
 2/
CATEGORIES:Cultural\,Education
END:VEVENT
END:VCALENDAR
