BEGIN:VCALENDAR
VERSION:2.0
PRODID:-//Microsoft Corporation//Outlook 11.0 MIMEDIR//EN
METHOD:PUBLISH
BEGIN:VEVENT
CLASS:PUBLIC
DTSTAMP:20260425T122440Z
UID:10001009-1739473200-1739476800@www.winchestermusic.org-1777@towncommon.org
DTSTART:20250214T000000Z
DTEND:20250214T010000Z
SUMMARY:Talroze Piano Studio Recital
DESCRIPTION:Piano Students of Olga Talroze perform for family and friends. Nichols
  Hall.
LOCATION:Winchester Community Music School\, 407 Highland Avenue\, Winchester\,
  MA 01890
URL:https://www.winchestermusic.org/event/talroze-piano-studio-recital-4/
CATEGORIES:Cultural\,Education
END:VEVENT
END:VCALENDAR
