BEGIN:VCALENDAR
VERSION:2.0
PRODID:-//Microsoft Corporation//Outlook 11.0 MIMEDIR//EN
METHOD:PUBLISH
BEGIN:VEVENT
CLASS:PUBLIC
DTSTAMP:20260425T120714Z
UID:10000966-1739304000-1739307600@www.winchestermusic.org-1777@towncommon.org
DTSTART:20250212T010000Z
DTEND:20250212T020000Z
SUMMARY:Vavilov Violin & Viola Adult Studio Recital
DESCRIPTION:Adult violin and viola students perform for family and friends.
  Nichols Performance Hall.
LOCATION:Winchester Community Music School\, 407 Highland Avenue\, Winchester\,
  MA 01890
URL:https://www.winchestermusic.org/event/vavilov-violin-viola-adult-studi
 o-recital/
CATEGORIES:Cultural\,Education
END:VEVENT
END:VCALENDAR
