BEGIN:VCALENDAR
VERSION:2.0
PRODID:-//Microsoft Corporation//Outlook 11.0 MIMEDIR//EN
METHOD:PUBLISH
BEGIN:VEVENT
CLASS:PUBLIC
DTSTAMP:20260424T155138Z
UID:TCTF-1777045898@towncommon.org
DTSTART:20250316T190000Z
DTEND:20250316T210000Z
SUMMARY:Áine Minogue/Harpist
DESCRIPTION:Come and hear the magical sounds of Story Teller and world-renowned
  harpist Áine Minogue in this special Sunday-Before-St. Patrick’s
  Day performance in the All Seasons Barn. Tickets are $25–50.
LOCATION:Wright-Locke Farm\, 82 Ridge Street\, Winchester\, MA 01890
URL:https://www.wlfarm.org/aine-minogue-harpist/
IMAGE:https://findit.towncommon.org/sites/default/files/2025-01/3.-AM-4-18-4
 2-ENHANCED-copy-3-1024x683.jpg
CATEGORIES:Cultural
END:VEVENT
END:VCALENDAR
