BEGIN:VCALENDAR
VERSION:2.0
PRODID:-//Microsoft Corporation//Outlook 11.0 MIMEDIR//EN
METHOD:PUBLISH
BEGIN:VEVENT
CLASS:PUBLIC
DTSTAMP:20260425T120634Z
UID:TCTF-1777118794@towncommon.org
DTSTART:20241230T230000Z
DTEND:20241231T000000Z
SUMMARY:The Making of the Save Erce podcast
DESCRIPTION:The Making of Save Erce is a short documentary film that shares the
  inspiring journey behind Brio's fictional Save Erce podcast. Created
  during and after the COVID-19 pandemic\, a diverse group of
  people—of all ages and abilities—came together to write\, act\,
  and bring to life a unique story about Duncan\, a dragon on a mission
  to save the Earth (Erce)\, and a small town of Wincharm where a secret
  magical community prepares for their annual Halloween party. Through
  13 episodes blending fantasy\, humor\, and heart\, Save Erce explored
  themes of community\, resilience\, and the power of collaboration in
  times of crisis.The documentary features the voices of the writers\,
  performers\, and partners involved\, highlighting the importance of
  the arts in uniting communities.Free to the public\, light
  refreshments served.
LOCATION:WinCAM Studios\, 32 Swanton Street \, Winchester\, MA 01890
URL:https://www.briotheatre.org/
IMAGE:https://findit.towncommon.org/sites/default/files/2024-12/d720de32-626
 3-9ae0-4567-882cf379602c.jpg
CATEGORIES:Cultural
END:VEVENT
END:VCALENDAR
