BEGIN:VCALENDAR
VERSION:2.0
PRODID:-//Microsoft Corporation//Outlook 11.0 MIMEDIR//EN
METHOD:PUBLISH
BEGIN:VEVENT
CLASS:PUBLIC
DTSTAMP:20260424T075801Z
UID:TCTF-1777017481@towncommon.org
DTSTART:20241114T150000Z
DTEND:20241114T190000Z
SUMMARY:Shibori Indigo Dyeing with Kiyomi Yatsuhashi
DESCRIPTION:Winchester artist Kiyomi Yatsuhashi returns to Studio on the Common
  with this one-day workshop on the Japanese craft of shibori and indigo
  dyeing. Demonstrations and practice will include shibori resist
  techniques such as binding\, folding\, wrapping\, and clamping to
  create dyed patterns. You'll bring home indigo dyed unfinished cotton
  pieces that can be used for a quilt\, wall hanging\, table scarf\, or
  napkin. 
 
 Included in the workshop is one small finished scarf or bandana.
 
 All materials are included in this special one-day workshop. 
 
 Limited to eight participants. 
 
 NOTES:
 
 Materials Fee of $25 is included in the tuition fee and covers the
  cost of indigo dyes\, tools\, and fabric. 
 
 Optional: natural fiber scarves (cotton\, silk\, wool)\, cotton
  bandanas\, and kitchen towels & napkins will be available for purchase
  on the day of the workshop for anyone who would like to apply the
  shibori techniques to these items.
 
 Indigo dye will stain your clothing and shoes. We will provide
  aprons\, but please dress for a mess and choose your shoes and
  clothing accordingly. 
 
 https://www.instagram.com/kiyomi.yatsuhashi/
LOCATION:Studio on the Common\, 22 Church Street\, Winchester\, MA 01890
URL:https://gal.re/e/Z3g0aT2IyNb
IMAGE:https://findit.towncommon.org/sites/default/files/2024-11/Shibori%20di
 splay%20at%20Studio%203-15-2019%20%281%29.jpg
CATEGORIES:Cultural\,Education
END:VEVENT
END:VCALENDAR
