BEGIN:VCALENDAR
VERSION:2.0
PRODID:-//Microsoft Corporation//Outlook 11.0 MIMEDIR//EN
METHOD:PUBLISH
BEGIN:VEVENT
CLASS:PUBLIC
DTSTAMP:20260419T153039Z
UID:TCTF-1776612639@towncommon.org
DTSTART:20240724T223000Z
DTEND:20240725T003000Z
SUMMARY:Concert on the Common - Stacey Peasley
DESCRIPTION:STACEY PEASLEY\, music especially for kids and families. Music on the
  Town Common\, Wednesdays during the summer. Free for all!
LOCATION:Town Common\, Between Church Street\, Thompson Road\, and Main
  Street\, Winchester\, MA 01890
URL:http://www.winrec.com
IMAGE:https://findit.towncommon.org/sites/default/files/2024-06/Copy_of_Conc
 ert_Schedule_Facebook_Post_1.png
CATEGORIES:Community\,Cultural
END:VEVENT
END:VCALENDAR
