BEGIN:VCALENDAR
VERSION:2.0
PRODID:-//Microsoft Corporation//Outlook 11.0 MIMEDIR//EN
METHOD:PUBLISH
BEGIN:VEVENT
CLASS:PUBLIC
DTSTAMP:20260419T140657Z
UID:TCTF-1776607617@towncommon.org
DTSTART:20240717T223000Z
DTEND:20240718T003000Z
SUMMARY:Concert on the Common - The Nays
DESCRIPTION:THE NAYS\, a traditional Rock quartet. Music on the Town Common\,
  Wednesdays during the summer. Free for all!
LOCATION:Town Common\, Between Church Street\, Thompson Road\, and Main
  Street\, Winchester\, MA 01890
URL:http://www.winrec.com
IMAGE:https://findit.towncommon.org/sites/default/files/2024-06/Copy_of_Conc
 ert_Schedule_Facebook_Post_1.png
CATEGORIES:Community\,Cultural
END:VEVENT
END:VCALENDAR
