BEGIN:VCALENDAR
VERSION:2.0
PRODID:-//Microsoft Corporation//Outlook 11.0 MIMEDIR//EN
METHOD:PUBLISH
BEGIN:VEVENT
CLASS:PUBLIC
DTSTAMP:20260420T014414Z
UID:TCTF-1776649454@towncommon.org
DTSTART:20240529T010000Z
DTEND:20240529T010000Z
SUMMARY:A Fond Musical Farewell with Diane Taraz
DESCRIPTION:Join historical musical sensation Diane Taraz to celebrate the spirit
  of life and memories of friends. She will be performing her Fond
  Farewell musical program for Memorial Day\, consisting of classical
  and original songs on guitar and dulcimer. The program will include
  Over the Rainbow\, Wayfaring Stranger\, Amazing Grace\, Will the
  Circle be Unbroken and many more. Diane has provided music for
  sponsored events and recorded CDs\, produced 20 solo CDs\, 6 CDs with
  groups and 4 singles. Sponsored by the Cummings Foundation.
LOCATION:Jenks Center\, 109 Skillings Road\, Winchester\, MA 01890
URL:https://www.jenkscenter.org/events/a-fond-musical-farewell-with-diane-
 taraz
IMAGE:https://findit.towncommon.org/sites/default/files/2024-04/0b18b07c9252
 4d5fb1949752f79a63d1.webp
CATEGORIES:Cultural
END:VEVENT
END:VCALENDAR
